BEGIN:VCALENDAR
VERSION:2.0
PRODID:-//REDAVIA | Solar Company in Kenya - ECPv5.14.0.2//NONSGML v1.0//EN
CALSCALE:GREGORIAN
METHOD:PUBLISH
X-WR-CALNAME:REDAVIA | Solar Company in Kenya
X-ORIGINAL-URL:https://www.redaviasolar.com
X-WR-CALDESC:Events for REDAVIA | Solar Company in Kenya
BEGIN:VTIMEZONE
TZID:Africa/Accra
BEGIN:STANDARD
TZOFFSETFROM:+0000
TZOFFSETTO:+0000
TZNAME:GMT
DTSTART:20190101T000000
END:STANDARD
END:VTIMEZONE
BEGIN:VEVENT
DTSTART;TZID=Africa/Accra:20191021T080000
DTEND;TZID=Africa/Accra:20191021T170000
DTSTAMP:20260424T000434
CREATED:20191015T080349Z
LAST-MODIFIED:20191015T080349Z
UID:3838-1571644800-1571677200@www.redaviasolar.com
SUMMARY:AFSIA C&I CONFERENCE – GHANA (IN COLLABORATION WITH ECREEE AND AGSI)
DESCRIPTION:Come see REDAVIA’s Steven Asante speak at AFSIA conference! \nAFSIA’s conference will focus particularly on C&I solar (Commercial & Industrial)\, highlighting how solar can be a solution to improve business operations and which are the new opportunities for commercial and industrial business owners to benefit from solar energy in West Africa. \nThe conference is free to attend and AFSIA particularly encourages business owners who would like to learn more about solar energy benefits to attend. Registration may be done by email to info@afsiasolar.com with subject “Ghana C&I”.
URL:https://www.redaviasolar.com/event/afsia-ci-conference-ghana-in-collaboration-with-ecreee-and-agsi/
LOCATION:Kempinski Hotel Gold Coast\, Ministries PMB\, 66 Gamel Abdul Nasser Ave\, Accra\, Ghana
END:VEVENT
END:VCALENDAR