BEGIN:VCALENDAR
VERSION:2.0
PRODID:-//REDAVIA | Solar Company in Kenya - ECPv5.14.0.2//NONSGML v1.0//EN
CALSCALE:GREGORIAN
METHOD:PUBLISH
X-WR-CALNAME:REDAVIA | Solar Company in Kenya
X-ORIGINAL-URL:https://www.redaviasolar.com
X-WR-CALDESC:Events for REDAVIA | Solar Company in Kenya
BEGIN:VTIMEZONE
TZID:Europe/Berlin
BEGIN:DAYLIGHT
TZOFFSETFROM:+0100
TZOFFSETTO:+0200
TZNAME:CEST
DTSTART:20190331T010000
END:DAYLIGHT
BEGIN:STANDARD
TZOFFSETFROM:+0200
TZOFFSETTO:+0100
TZNAME:CET
DTSTART:20191027T010000
END:STANDARD
END:VTIMEZONE
BEGIN:VEVENT
DTSTART;VALUE=DATE:20190910
DTEND;VALUE=DATE:20190913
DTSTAMP:20260423T215539
CREATED:20190718T142050Z
LAST-MODIFIED:20190718T144245Z
UID:3752-1568073600-1568332799@www.redaviasolar.com
SUMMARY:Ghana Industrial Summit & Exhibition (GISE)
DESCRIPTION:The Association of Ghana Industries is cohosting the 3rd Ghana Industrial Summit & Expo with the Volta River Authority from 10th – 12th of September 2019 at the Accra International Conference Centre. This year’s event will focus on industry and the global market with the theme “Strengthening Ghanaian Industries for Global Competitiveness”. The summit is aims to bring the entire business community\, small\, medium and large-scale companies alike\,  together to share ideas on moving industry beyond the shores of Ghana to impact the world. \nCome meet the REDAVIA Team at our exhibition booth!
URL:https://www.redaviasolar.com/event/ghana-industrial-summit-exhibition/
LOCATION:Accra International Conference Center\, Castle Rd\, Accra\, Ghana
END:VEVENT
END:VCALENDAR