BEGIN:VCALENDAR
VERSION:2.0
PRODID:-//REDAVIA | Solar Company in Kenya - ECPv5.14.0.2//NONSGML v1.0//EN
CALSCALE:GREGORIAN
METHOD:PUBLISH
X-WR-CALNAME:REDAVIA | Solar Company in Kenya
X-ORIGINAL-URL:https://www.redaviasolar.com
X-WR-CALDESC:Events for REDAVIA | Solar Company in Kenya
BEGIN:VTIMEZONE
TZID:Europe/Berlin
BEGIN:DAYLIGHT
TZOFFSETFROM:+0100
TZOFFSETTO:+0200
TZNAME:CEST
DTSTART:20180325T010000
END:DAYLIGHT
BEGIN:STANDARD
TZOFFSETFROM:+0200
TZOFFSETTO:+0100
TZNAME:CET
DTSTART:20181028T010000
END:STANDARD
END:VTIMEZONE
BEGIN:VEVENT
DTSTART;TZID=Europe/Berlin:20181116T183000
DTEND;TZID=Europe/Berlin:20181116T210000
DTSTAMP:20260423T233931
CREATED:20180913T094713Z
LAST-MODIFIED:20180913T114557Z
UID:3040-1542393000-1542402000@www.redaviasolar.com
SUMMARY:West African Mining Drinks Sponsored by REDAVIA
DESCRIPTION:REDAVIA is looking forward to sponsoring the West African Mining Drinks (Sahara Happy Hour) at the Golden Tulip Hotel in Accra. After a long week of hard work\, the West African Mining Drinks is the place to catch up with colleagues\, make new friends\, exchange news & ideas\, and do some networking. Come meet with us and other professionals in the Exploration & Mining\, Agribusiness\, Oil & Gas and Marine industries!
URL:https://www.redaviasolar.com/event/mining-drinks-sponsored-by-redavia/
LOCATION:Golden Tulip Accra\, Liberation Road\, Accra\, Ghana
END:VEVENT
END:VCALENDAR