BEGIN:VCALENDAR
VERSION:2.0
PRODID:-//REDAVIA | Solar Company in Kenya - ECPv5.14.0.2//NONSGML v1.0//EN
CALSCALE:GREGORIAN
METHOD:PUBLISH
X-WR-CALNAME:REDAVIA | Solar Company in Kenya
X-ORIGINAL-URL:https://www.redaviasolar.com
X-WR-CALDESC:Events for REDAVIA | Solar Company in Kenya
BEGIN:VTIMEZONE
TZID:Africa/Accra
BEGIN:STANDARD
TZOFFSETFROM:+0000
TZOFFSETTO:+0000
TZNAME:GMT
DTSTART:20190101T000000
END:STANDARD
END:VTIMEZONE
BEGIN:VEVENT
DTSTART;TZID=Africa/Accra:20191002T103000
DTEND;TZID=Africa/Accra:20191002T130000
DTSTAMP:20260423T234629
CREATED:20190806T113321Z
LAST-MODIFIED:20190806T113722Z
UID:3785-1570012200-1570021200@www.redaviasolar.com
SUMMARY:REDAVIA Solar Farm Site Visit at Red Sea Housing
DESCRIPTION:Curious to see how REDAVIA’s Solar Farms really work?\nJoin us Wednesday October 2nd for a tour of the REDAVIA Solar Farm at Red Sea Housing Services in the Tema Free Zone! The site visit will be followed by a lunch reception where you can ask REDAVIA sales directors and engineers any of your energy questions. \nRoute planner to location (Google Maps)\n  \n\n\n\n\n\n\n\n\n\n\nFIRST NAME*\n\n\nLAST NAME*\n\n\nCOMPANY*\n\n\nPOSITION*\n\n\nEMAIL*\n\n\nPHONE*\n\nWe will store the information you provide to us. We will only use this information for the purpose of assisting you with your inquiry. View our privacy policy \n \n×
URL:https://www.redaviasolar.com/event/redavia-solar-farm-site-visit-at-red-sea-housing/
LOCATION:Red Sea Housing\, Tema\, Ghana
END:VEVENT
END:VCALENDAR